BEGIN:VCALENDAR
VERSION:2.0
PRODID:-//O Gaveto Tasting Club - ECPv6.15.20//NONSGML v1.0//EN
CALSCALE:GREGORIAN
METHOD:PUBLISH
X-WR-CALNAME:O Gaveto Tasting Club
X-ORIGINAL-URL:https://update.tastingclub.ogaveto.com
X-WR-CALDESC:Eventos para O Gaveto Tasting Club
REFRESH-INTERVAL;VALUE=DURATION:PT1H
X-Robots-Tag:noindex
X-PUBLISHED-TTL:PT1H
BEGIN:VTIMEZONE
TZID:Europe/Lisbon
BEGIN:DAYLIGHT
TZOFFSETFROM:+0000
TZOFFSETTO:+0100
TZNAME:WEST
DTSTART:20250330T010000
END:DAYLIGHT
BEGIN:STANDARD
TZOFFSETFROM:+0100
TZOFFSETTO:+0000
TZNAME:WET
DTSTART:20251026T010000
END:STANDARD
BEGIN:DAYLIGHT
TZOFFSETFROM:+0000
TZOFFSETTO:+0100
TZNAME:WEST
DTSTART:20260329T010000
END:DAYLIGHT
BEGIN:STANDARD
TZOFFSETFROM:+0100
TZOFFSETTO:+0000
TZNAME:WET
DTSTART:20261025T010000
END:STANDARD
BEGIN:DAYLIGHT
TZOFFSETFROM:+0000
TZOFFSETTO:+0100
TZNAME:WEST
DTSTART:20270328T010000
END:DAYLIGHT
BEGIN:STANDARD
TZOFFSETFROM:+0100
TZOFFSETTO:+0000
TZNAME:WET
DTSTART:20271031T010000
END:STANDARD
END:VTIMEZONE
BEGIN:VEVENT
DTSTART;TZID=Europe/Lisbon:20260312T200000
DTEND;TZID=Europe/Lisbon:20260312T233000
DTSTAMP:20260424T094925
CREATED:20260305T112259Z
LAST-MODIFIED:20260317T122845Z
UID:246656-1773345600-1773358200@update.tastingclub.ogaveto.com
SUMMARY:MOB n' O Gaveto Tasting Club
DESCRIPTION:Discurso	\n	\n	\n\n	\n\n		\n	\n	\n	\n	\n		M.O.B	\n	\n	\n\n	\n\n		\n	\n	\n	\n	\n		Jantar
URL:https://update.tastingclub.ogaveto.com/evento/mob-n-o-gaveto-tasting-club/
LOCATION:Restaurante O Gaveto | Sala Zalto\, Rua Roberto Ivens\, 826\, Matosinhos\, Porto\, 4450-255\, Portugal
ATTACH;FMTTYPE=image/webp:https://update.tastingclub.ogaveto.com/wp-content/uploads/2026/03/capa-site.webp
END:VEVENT
END:VCALENDAR